BEGIN:VCALENDAR
VERSION:2.0
PRODID:hinto.net
X-PUBLISHED-TTL:P1W
BEGIN:VEVENT
UID:hinto.net-event_show-6933257
DTSTART:20260502T233000
SEQUENCE:0
CREATED:20260422T052140
LAST-MODIFIED:20260422T052140
TRANSP:OPAQUE

LOCATION:Balz
SUMMARY:Balzen
CLASS:PUBLIC
DESCRIPTION:
ORGANIZER:
DTSTAMP:20260423T231505
ATTACH:https://cron.hinto.net/de/events/balzen-02-05-2026-2330-balz-basel-e2854435-20.html
END:VEVENT
END:VCALENDAR
