BEGIN:VCALENDAR
VERSION:2.0
PRODID:hinto.net
X-PUBLISHED-TTL:P1W
BEGIN:VEVENT
UID:hinto.net-event_show-6933164
DTSTART:20260620T080000
SEQUENCE:0
CREATED:20260422T051954
LAST-MODIFIED:20260422T051954
TRANSP:OPAQUE
DTEND:20260620T170000
LOCATION:
SUMMARY:Basler Stadtmarkt
CLASS:PUBLIC
DESCRIPTION:
ORGANIZER:
DTSTAMP:20260425T023638
ATTACH:https://cron.hinto.net/de/events/basler-stadtmarkt-20-06-2026-0800-basel-e2829358-20.html
END:VEVENT
END:VCALENDAR
