BEGIN:VCALENDAR
VERSION:2.0
PRODID:hinto.net
X-PUBLISHED-TTL:P1W
BEGIN:VEVENT
UID:hinto.net-event_show-6859359
DTSTART:20260419T040000
SEQUENCE:0
CREATED:20260328T053658
LAST-MODIFIED:20260328T053658
TRANSP:OPAQUE
DTEND:20260419T052500
LOCATION:
SUMMARY:ZDF: Liebe auf 4 Pfoten
CLASS:PUBLIC
DESCRIPTION:
ORGANIZER:
DTSTAMP:20260420T063323
ATTACH:https://cron.hinto.net/de/events/zdf-liebe-auf-4-pfoten-19-04-2026-0400-e2790538-20.html
END:VEVENT
END:VCALENDAR
