BEGIN:VCALENDAR
VERSION:2.0
PRODID:hinto.net
X-PUBLISHED-TTL:P1W
BEGIN:VEVENT
UID:hinto.net-event_show-6860254
DTSTART:20260419T000000
SEQUENCE:0
CREATED:20260328T060546
LAST-MODIFIED:20260328T060546
TRANSP:OPAQUE
DTEND:20260419T001300
LOCATION:
SUMMARY:Tele Top: Top News
CLASS:PUBLIC
DESCRIPTION:
ORGANIZER:
DTSTAMP:20260420T075656
ATTACH:https://cron.hinto.net/de/events/tele-top-top-news-19-04-2026-0000-e2791433-20.html
END:VEVENT
END:VCALENDAR
