BEGIN:VCALENDAR
VERSION:2.0
PRODID:hinto.net
X-PUBLISHED-TTL:P1W
BEGIN:VEVENT
UID:hinto.net-event_show-6863457
DTSTART:20260419T180000
SEQUENCE:0
CREATED:20260329T154600
LAST-MODIFIED:20260329T154600
TRANSP:OPAQUE
DTEND:20260419T181300
LOCATION:
SUMMARY:Tele Basel: punkt6
CLASS:PUBLIC
DESCRIPTION:
ORGANIZER:
DTSTAMP:20260420T041709
ATTACH:https://cron.hinto.net/de/events/tele-basel-punkt6-19-04-2026-1800-e2794073-20.html
END:VEVENT
END:VCALENDAR
