BEGIN:VCALENDAR
VERSION:2.0
PRODID:hinto.net
X-PUBLISHED-TTL:P1W
BEGIN:VEVENT
UID:hinto.net-event_show-6925847
DTSTART:20260419T202000
SEQUENCE:0
CREATED:20260419T150757
LAST-MODIFIED:20260419T150757
TRANSP:OPAQUE
DTEND:20260419T204000
LOCATION:
SUMMARY:Tele 1: Unterwegs
CLASS:PUBLIC
DESCRIPTION:
ORGANIZER:
DTSTAMP:20260420T074807
ATTACH:https://cron.hinto.net/de/events/tele-1-unterwegs-19-04-2026-2020-e2847787-20.html
END:VEVENT
END:VCALENDAR
