BEGIN:VCALENDAR
VERSION:2.0
PRODID:hinto.net
X-PUBLISHED-TTL:P1W
BEGIN:VEVENT
UID:hinto.net-event_show-6862604
DTSTART:20260420T022000
SEQUENCE:0
CREATED:20260329T145701
LAST-MODIFIED:20260329T145701
TRANSP:OPAQUE
DTEND:20260420T023000
LOCATION:
SUMMARY:SRF info: Tagesschau
CLASS:PUBLIC
DESCRIPTION:
ORGANIZER:
DTSTAMP:20260420T112542
ATTACH:https://cron.hinto.net/de/events/srf-info-tagesschau-20-04-2026-0220-e2793220-20.html
END:VEVENT
END:VCALENDAR
