BEGIN:VCALENDAR
VERSION:2.0
PRODID:hinto.net
X-PUBLISHED-TTL:P1W
BEGIN:VEVENT
UID:hinto.net-event_show-6859174
DTSTART:20260419T045500
SEQUENCE:0
CREATED:20260419T133934
LAST-MODIFIED:20260419T133934
TRANSP:OPAQUE
DTEND:20260419T052500
LOCATION:
SUMMARY:SRF info: Puls
CLASS:PUBLIC
DESCRIPTION:
ORGANIZER:
DTSTAMP:20260420T041535
ATTACH:https://cron.hinto.net/de/events/srf-info-puls-19-04-2026-0455-e2790353-20.html
END:VEVENT
END:VCALENDAR
