BEGIN:VCALENDAR
VERSION:2.0
PRODID:hinto.net
X-PUBLISHED-TTL:P1W
BEGIN:VEVENT
UID:hinto.net-event_show-6862525
DTSTART:20260419T200500
SEQUENCE:0
CREATED:20260409T161948
LAST-MODIFIED:20260409T161948
TRANSP:OPAQUE
DTEND:20260419T214500
LOCATION:
SUMMARY:SRF 1: Tatort
CLASS:PUBLIC
DESCRIPTION:
ORGANIZER:
DTSTAMP:20260420T055028
ATTACH:https://cron.hinto.net/de/events/srf-1-tatort-19-04-2026-2005-e2793141-20.html
END:VEVENT
END:VCALENDAR
