BEGIN:VCALENDAR
VERSION:2.0
PRODID:hinto.net
X-PUBLISHED-TTL:P1W
BEGIN:VEVENT
UID:hinto.net-event_show-6867387
DTSTART:20260419T045000
SEQUENCE:0
CREATED:20260331T201745
LAST-MODIFIED:20260331T201745
TRANSP:OPAQUE
DTEND:20260419T053500
LOCATION:
SUMMARY:SAT 1: Auf Streife - Berlin
CLASS:PUBLIC
DESCRIPTION:
ORGANIZER:
DTSTAMP:20260420T025012
ATTACH:https://cron.hinto.net/de/events/sat-1-auf-streife-berlin-19-04-2026-0450-e2797355-20.html
END:VEVENT
END:VCALENDAR
