BEGIN:VCALENDAR
VERSION:2.0
PRODID:hinto.net
X-PUBLISHED-TTL:P1W
BEGIN:VEVENT
UID:hinto.net-event_show-6863917
DTSTART:20260419T180000
SEQUENCE:0
CREATED:20260329T160013
LAST-MODIFIED:20260329T160013
TRANSP:OPAQUE
DTEND:20260419T183000
LOCATION:
SUMMARY:Radio SRF 1: Echo der Zeit
CLASS:PUBLIC
DESCRIPTION:
ORGANIZER:
DTSTAMP:20260420T075425
ATTACH:https://cron.hinto.net/de/events/radio-srf-1-echo-der-zeit-19-04-2026-1800-e2794533-20.html
END:VEVENT
END:VCALENDAR
