BEGIN:VCALENDAR
VERSION:2.0
PRODID:hinto.net
X-PUBLISHED-TTL:P1W
BEGIN:VEVENT
UID:hinto.net-event_show-6907145
DTSTART:20260424T203000
SEQUENCE:0
CREATED:20260413T063833
LAST-MODIFIED:20260413T063833
TRANSP:OPAQUE

LOCATION:Espace Johannis
SUMMARY:LUCAS THORENS
CLASS:PUBLIC
DESCRIPTION:
ORGANIZER:
DTSTAMP:20260420T045218
ATTACH:https://cron.hinto.net/de/events/lucas-thorens-24-04-2026-2030-espace-johannis-chamoson-e2832008-20.html
END:VEVENT
END:VCALENDAR
