BEGIN:VCALENDAR
VERSION:2.0
PRODID:hinto.net
X-PUBLISHED-TTL:P1W
BEGIN:VEVENT
UID:hinto.net-event_show-6502061
DTSTART:20260523T193000
SEQUENCE:0
CREATED:20251205T031823
LAST-MODIFIED:20251205T031823
TRANSP:OPAQUE
DTEND:20260523T220000
LOCATION:Theater Basel
SUMMARY:La traviata
CLASS:PUBLIC
DESCRIPTION:
ORGANIZER:
DTSTAMP:20260420T085419
ATTACH:https://cron.hinto.net/de/events/la-traviata-23-05-2026-1930-theater-basel-basel-e2494254-20.html
END:VEVENT
END:VCALENDAR
