BEGIN:VCALENDAR
VERSION:2.0
PRODID:hinto.net
X-PUBLISHED-TTL:P1W
BEGIN:VEVENT
UID:hinto.net-event_show-6922500
DTSTART:20260419T181500
SEQUENCE:0
CREATED:20260418T114404
LAST-MODIFIED:20260418T114404
TRANSP:OPAQUE
DTEND:20260419T191500
LOCATION:
SUMMARY:DMAX: Die Grenzschützer
CLASS:PUBLIC
DESCRIPTION:
ORGANIZER:
DTSTAMP:20260420T075359
ATTACH:https://cron.hinto.net/de/events/dmax-die-grenzschuetzer-19-04-2026-1815-e2845027-20.html
END:VEVENT
END:VCALENDAR
