BEGIN:VCALENDAR
VERSION:2.0
PRODID:hinto.net
X-PUBLISHED-TTL:P1W
BEGIN:VEVENT
UID:hinto.net-event_show-6888906
DTSTART:20260422T203000
SEQUENCE:0
CREATED:20260407T025302
LAST-MODIFIED:20260407T025302
TRANSP:OPAQUE

LOCATION:Espace Johannis
SUMMARY:CELINA RAMSAUER
CLASS:PUBLIC
DESCRIPTION:
ORGANIZER:
DTSTAMP:20260420T031758
ATTACH:https://cron.hinto.net/de/events/celina-ramsauer-22-04-2026-2030-espace-johannis-chamoson-e2815313-20.html
END:VEVENT
END:VCALENDAR
