BEGIN:VCALENDAR
VERSION:2.0
PRODID:hinto.net
X-PUBLISHED-TTL:P1W
BEGIN:VEVENT
UID:hinto.net-event_show-6863862
DTSTART:20260419T201500
SEQUENCE:0
CREATED:20260329T155953
LAST-MODIFIED:20260329T155953
TRANSP:OPAQUE
DTEND:20260419T210000
LOCATION:
SUMMARY:ZDFneo: Phoenix - Change or Die
CLASS:PUBLIC
DESCRIPTION:
ORGANIZER:
DTSTAMP:20260420T052142
ATTACH:https://cron.hinto.net/de/events/zdfneo-phoenix-change-or-die-19-04-2026-2015-e2794478-20.html
END:VEVENT
END:VCALENDAR
