BEGIN:VCALENDAR
VERSION:2.0
PRODID:hinto.net
X-PUBLISHED-TTL:P1W
BEGIN:VEVENT
UID:hinto.net-event_show-6863869
DTSTART:20260420T021000
SEQUENCE:0
CREATED:20260329T155958
LAST-MODIFIED:20260329T155958
TRANSP:OPAQUE
DTEND:20260420T023500
LOCATION:
SUMMARY:ZDFneo: Bupkis
CLASS:PUBLIC
DESCRIPTION:
ORGANIZER:
DTSTAMP:20260420T130955
ATTACH:https://cron.hinto.net/de/events/zdfneo-bupkis-20-04-2026-0210-e2794485-20.html
END:VEVENT
END:VCALENDAR
