BEGIN:VCALENDAR
VERSION:2.0
PRODID:hinto.net
X-PUBLISHED-TTL:P1W
BEGIN:VEVENT
UID:hinto.net-event_show-6891545
DTSTART:20260419T201500
SEQUENCE:0
CREATED:20260419T143239
LAST-MODIFIED:20260419T143239
TRANSP:OPAQUE
DTEND:20260419T222000
LOCATION:
SUMMARY:TV25: 2 Hearts
CLASS:PUBLIC
DESCRIPTION:
ORGANIZER:
DTSTAMP:20260420T052141
ATTACH:https://cron.hinto.net/de/events/tv25-2-hearts-19-04-2026-2015-e2817651-20.html
END:VEVENT
END:VCALENDAR
