BEGIN:VCALENDAR
VERSION:2.0
PRODID:hinto.net
X-PUBLISHED-TTL:P1W
BEGIN:VEVENT
UID:hinto.net-event_show-6916812
DTSTART:20260419T201500
SEQUENCE:0
CREATED:20260419T145607
LAST-MODIFIED:20260419T145607
TRANSP:OPAQUE
DTEND:20260419T205000
LOCATION:
SUMMARY:Tele Züri: Sonntalk
CLASS:PUBLIC
DESCRIPTION:
ORGANIZER:
DTSTAMP:20260420T045215
ATTACH:https://cron.hinto.net/de/events/tele-zueri-sonntalk-19-04-2026-2015-e2839769-20.html
END:VEVENT
END:VCALENDAR
