BEGIN:VCALENDAR
VERSION:2.0
PRODID:hinto.net
X-PUBLISHED-TTL:P1W
BEGIN:VEVENT
UID:hinto.net-event_show-6862601
DTSTART:20260420T011500
SEQUENCE:0
CREATED:20260329T145659
LAST-MODIFIED:20260329T145659
TRANSP:OPAQUE
DTEND:20260420T012500
LOCATION:
SUMMARY:SRF info: Tagesschau
CLASS:PUBLIC
DESCRIPTION:
ORGANIZER:
DTSTAMP:20260420T090120
ATTACH:https://cron.hinto.net/de/events/srf-info-tagesschau-20-04-2026-0115-e2793217-20.html
END:VEVENT
END:VCALENDAR
