BEGIN:VCALENDAR
VERSION:2.0
PRODID:hinto.net
X-PUBLISHED-TTL:P1W
BEGIN:VEVENT
UID:hinto.net-event_show-6862531
DTSTART:20260420T010500
SEQUENCE:0
CREATED:20260329T145311
LAST-MODIFIED:20260329T145311
TRANSP:OPAQUE
DTEND:20260420T031500
LOCATION:
SUMMARY:SRF 1: Yentl
CLASS:PUBLIC
DESCRIPTION:
ORGANIZER:
DTSTAMP:20260420T124007
ATTACH:https://cron.hinto.net/de/events/srf-1-yentl-20-04-2026-0105-e2793147-20.html
END:VEVENT
END:VCALENDAR
