BEGIN:VCALENDAR
VERSION:2.0
PRODID:hinto.net
X-PUBLISHED-TTL:P1W
BEGIN:VEVENT
UID:hinto.net-event_show-6826665
DTSTART:20260426T170000
SEQUENCE:0
CREATED:20260318T051624
LAST-MODIFIED:20260318T051624
TRANSP:OPAQUE
DTEND:20260426T180000
LOCATION:Großes Haus
SUMMARY:Sprechen
CLASS:PUBLIC
DESCRIPTION:
ORGANIZER:
DTSTAMP:20260420T065421
ATTACH:https://cron.hinto.net/de/events/sprechen-26-04-2026-1700-grosses-haus-freiburg-i-br--e2762783-20.html
END:VEVENT
END:VCALENDAR
