BEGIN:VCALENDAR
VERSION:2.0
PRODID:hinto.net
X-PUBLISHED-TTL:P1W
BEGIN:VEVENT
UID:hinto.net-event_show-6646594
DTSTART:20260424T183000
SEQUENCE:0
CREATED:20260122T041342
LAST-MODIFIED:20260122T041342
TRANSP:OPAQUE

LOCATION:Ludothèque de Villette
SUMMARY:Soirée-jeux
CLASS:PUBLIC
DESCRIPTION:
ORGANIZER:
DTSTAMP:20260420T052948
ATTACH:https://cron.hinto.net/de/events/soiree-jeux-24-04-2026-1830-ludotheque-de-villette-le-chable-e2619012-20.html
END:VEVENT
END:VCALENDAR
