BEGIN:VCALENDAR
VERSION:2.0
PRODID:hinto.net
X-PUBLISHED-TTL:P1W
BEGIN:VEVENT
UID:hinto.net-event_show-6887667
DTSTART:20260427T051500
SEQUENCE:0
CREATED:20260406T191308
LAST-MODIFIED:20260406T191308
TRANSP:OPAQUE
DTEND:20260427T060000
LOCATION:
SUMMARY:RTL: CSI: Vegas
CLASS:PUBLIC
DESCRIPTION:
ORGANIZER:
DTSTAMP:20260420T072828
ATTACH:https://cron.hinto.net/de/events/rtl-csi-vegas-27-04-2026-0515-e2814087-20.html
END:VEVENT
END:VCALENDAR
