BEGIN:VCALENDAR
VERSION:2.0
PRODID:hinto.net
X-PUBLISHED-TTL:P1W
BEGIN:VEVENT
UID:hinto.net-event_show-6863975
DTSTART:20260419T200300
SEQUENCE:0
CREATED:20260329T160121
LAST-MODIFIED:20260329T160121
TRANSP:OPAQUE
DTEND:20260419T210000
LOCATION:
SUMMARY:Radio SRF 3: Input
CLASS:PUBLIC
DESCRIPTION:
ORGANIZER:
DTSTAMP:20260420T021210
ATTACH:https://cron.hinto.net/de/events/radio-srf-3-input-19-04-2026-2003-e2794591-20.html
END:VEVENT
END:VCALENDAR
