BEGIN:VCALENDAR
VERSION:2.0
PRODID:hinto.net
X-PUBLISHED-TTL:P1W
BEGIN:VEVENT
UID:hinto.net-event_show-6826647
DTSTART:20260425T200000
SEQUENCE:0
CREATED:20260318T051615
LAST-MODIFIED:20260318T051615
TRANSP:OPAQUE
DTEND:20260425T210000
LOCATION:Großes Haus
SUMMARY:#lookoftheday
CLASS:PUBLIC
DESCRIPTION:
ORGANIZER:
DTSTAMP:20260420T052944
ATTACH:https://cron.hinto.net/de/events/lookoftheday-25-04-2026-2000-grosses-haus-freiburg-i-br--e2762769-20.html
END:VEVENT
END:VCALENDAR
