BEGIN:VCALENDAR
VERSION:2.0
PRODID:hinto.net
X-PUBLISHED-TTL:P1W
BEGIN:VEVENT
UID:hinto.net-event_show-6924708
DTSTART:20260424T180000
SEQUENCE:0
CREATED:20260419T051705
LAST-MODIFIED:20260419T051705
TRANSP:OPAQUE
DTEND:20260424T210000
LOCATION:
SUMMARY:Kreativkurs "Wine & Flow"
CLASS:PUBLIC
DESCRIPTION:
ORGANIZER:
DTSTAMP:20260420T024010
ATTACH:https://cron.hinto.net/de/events/kreativkurs-wine-flow-24-04-2026-1800-e2686629-20.html
END:VEVENT
END:VCALENDAR
