BEGIN:VCALENDAR
VERSION:2.0
PRODID:hinto.net
X-PUBLISHED-TTL:P1W
BEGIN:VEVENT
UID:hinto.net-event_show-6862990
DTSTART:20260419T181000
SEQUENCE:0
CREATED:20260329T152026
LAST-MODIFIED:20260329T152026
TRANSP:OPAQUE
DTEND:20260419T183500
LOCATION:
SUMMARY:KiKa: Die Biene Maja
CLASS:PUBLIC
DESCRIPTION:
ORGANIZER:
DTSTAMP:20260420T075417
ATTACH:https://cron.hinto.net/de/events/kika-die-biene-maja-19-04-2026-1810-e2793606-20.html
END:VEVENT
END:VCALENDAR
