BEGIN:VCALENDAR
VERSION:2.0
PRODID:hinto.net
X-PUBLISHED-TTL:P1W
BEGIN:VEVENT
UID:hinto.net-event_show-6933623
DTSTART:20260512T200000
SEQUENCE:0
CREATED:20260422T052530
LAST-MODIFIED:20260422T052530
TRANSP:OPAQUE
DTEND:20260512T210000
LOCATION:Silo 2
SUMMARY:Into Swamp
CLASS:PUBLIC
DESCRIPTION:
ORGANIZER:
DTSTAMP:20260425T135130
ATTACH:https://cron.hinto.net/de/events/into-swamp-12-05-2026-2000-silo-2-basel-e2854556-20.html
END:VEVENT
END:VCALENDAR
