BEGIN:VCALENDAR
VERSION:2.0
PRODID:hinto.net
X-PUBLISHED-TTL:P1W
BEGIN:VEVENT
UID:hinto.net-event_show-6924639
DTSTART:20261222T200000
SEQUENCE:0
CREATED:20260419T051457
LAST-MODIFIED:20260419T051457
TRANSP:OPAQUE
DTEND:20261222T000000
LOCATION:Fauteuil
SUMMARY:Die Impronauten
CLASS:PUBLIC
DESCRIPTION:
ORGANIZER:
DTSTAMP:20260420T093541
ATTACH:https://cron.hinto.net/de/events/die-impronauten-22-12-2026-2000-fauteuil-basel-e1217971-20.html
END:VEVENT
END:VCALENDAR
