BEGIN:VCALENDAR
VERSION:2.0
PRODID:hinto.net
X-PUBLISHED-TTL:P1W
BEGIN:VEVENT
UID:hinto.net-event_show-6925283
DTSTART:20260524T230000
SEQUENCE:0
CREATED:20260419T052114
LAST-MODIFIED:20260419T052114
TRANSP:OPAQUE

LOCATION:Exil
SUMMARY:Choke
CLASS:PUBLIC
DESCRIPTION:
ORGANIZER:
DTSTAMP:20260420T074929
ATTACH:https://cron.hinto.net/de/events/choke-24-05-2026-2300-exil-zuerich-e2847379-20.html
END:VEVENT
END:VCALENDAR
