BEGIN:VCALENDAR
VERSION:2.0
PRODID:hinto.net
X-PUBLISHED-TTL:P1W
BEGIN:VEVENT
UID:hinto.net-event_show-6862889
DTSTART:20260419T201500
SEQUENCE:0
CREATED:20260329T151306
LAST-MODIFIED:20260329T151306
TRANSP:OPAQUE
DTEND:20260419T210000
LOCATION:
SUMMARY:3Sat: Ladies Night
CLASS:PUBLIC
DESCRIPTION:
ORGANIZER:
DTSTAMP:20260420T051408
ATTACH:https://cron.hinto.net/de/events/3sat-ladies-night-19-04-2026-2015-e2793505-20.html
END:VEVENT
END:VCALENDAR
