BEGIN:VCALENDAR
VERSION:2.0
PRODID:hinto.net
X-PUBLISHED-TTL:P1W
BEGIN:VEVENT
UID:hinto.net-event_show-6919345
DTSTART:20260419T025000
SEQUENCE:0
CREATED:20260417T042119
LAST-MODIFIED:20260417T042119
TRANSP:OPAQUE
DTEND:20260419T050000
LOCATION:
SUMMARY:3+: Susi.live
CLASS:PUBLIC
DESCRIPTION:
ORGANIZER:
DTSTAMP:20260420T091957
ATTACH:https://cron.hinto.net/de/events/3+-susi-live-19-04-2026-0250-e2842302-20.html
END:VEVENT
END:VCALENDAR
