BEGIN:VCALENDAR
VERSION:2.0
PRODID:hinto.net
X-PUBLISHED-TTL:P1W
BEGIN:VEVENT
UID:hinto.net-event_show-6863014
DTSTART:20260419T201500
SEQUENCE:0
CREATED:20260418T064814
LAST-MODIFIED:20260418T064814
TRANSP:OPAQUE
DTEND:20260419T224500
LOCATION:
SUMMARY:3+: Bridget Jones' Baby
CLASS:PUBLIC
DESCRIPTION:
ORGANIZER:
DTSTAMP:20260420T093635
ATTACH:https://cron.hinto.net/de/events/3+-bridget-jones-baby-19-04-2026-2015-e2793630-20.html
END:VEVENT
END:VCALENDAR
