BEGIN:VCALENDAR
VERSION:2.0
PRODID:hinto.net
X-PUBLISHED-TTL:P1W
BEGIN:VEVENT
UID:hinto.net-event_show-6844920
DTSTART:20260522T210000
SEQUENCE:0
CREATED:20260324T034744
LAST-MODIFIED:20260324T034744
TRANSP:OPAQUE

LOCATION:Hirscheneck
SUMMARY:Artificial Go
CLASS:PUBLIC
DESCRIPTION:
ORGANIZER:
DTSTAMP:20260424T002222
ATTACH:https://cron.hinto.net/de/events/artificial-go-22-05-2026-2100-hirscheneck-basel-e2778224-20.html
END:VEVENT
END:VCALENDAR
